BEGIN:VCALENDAR
VERSION:2.0
PRODID:https://www.kufer.de/kuferweb / DE
METHOD:PUBLISH
CALSCALE:GREGORIAN
X-WR-TIMEZONE:Europe/Berlin
BEGIN:VTIMEZONE
TZID:Europe/Berlin
X-LIC-LOCATION:Europe/Berlin
BEGIN:DAYLIGHT
TZOFFSETFROM:+0100
TZOFFSETTO:+0200
TZNAME:CEST
DTSTART:19700329T020000
RRULE:FREQ=YEARLY;INTERVAL=1;BYDAY=-1SU;BYMONTH=3
END:DAYLIGHT
BEGIN:STANDARD
TZOFFSETFROM:+0200
TZOFFSETTO:+0100
TZNAME:CET
DTSTART:19701025T030000
RRULE:FREQ=YEARLY;INTERVAL=1;BYDAY=-1SU;BYMONTH=10
END:STANDARD
END:VTIMEZONE
BEGIN:VEVENT
DTSTAMP:20260421T105704
DTSTART;TZID=Europe/Berlin:20260203T143000
DTEND;TZID=Europe/Berlin:20260203T161000
UID:26S77000-20260203T143000@VHSBREGENZ
SUMMARY:Treffpunkt Tanz! Für Tanzbegeisterte ab 50 (26S77000) 
LOCATION:Lustenau, Pfarrzentrum Rheindorf, Maria-Theresien-Straße 85, Maria-Theresien-Straße 85, 6890 Lustenau
END:VEVENT
BEGIN:VEVENT
DTSTAMP:20260421T105704
DTSTART;TZID=Europe/Berlin:20260210T143000
DTEND;TZID=Europe/Berlin:20260210T161000
UID:26S77000-20260210T143000@VHSBREGENZ
SUMMARY:Treffpunkt Tanz! Für Tanzbegeisterte ab 50 (26S77000) 
LOCATION:Lustenau, Pfarrzentrum Rheindorf, Maria-Theresien-Straße 85, Maria-Theresien-Straße 85, 6890 Lustenau
END:VEVENT
BEGIN:VEVENT
DTSTAMP:20260421T105704
DTSTART;TZID=Europe/Berlin:20260217T143000
DTEND;TZID=Europe/Berlin:20260217T161000
UID:26S77000-20260217T143000@VHSBREGENZ
SUMMARY:Treffpunkt Tanz! Für Tanzbegeisterte ab 50 (26S77000) 
LOCATION:Lustenau, Pfarrzentrum Rheindorf, Maria-Theresien-Straße 85, Maria-Theresien-Straße 85, 6890 Lustenau
END:VEVENT
BEGIN:VEVENT
DTSTAMP:20260421T105704
DTSTART;TZID=Europe/Berlin:20260224T143000
DTEND;TZID=Europe/Berlin:20260224T161000
UID:26S77000-20260224T143000@VHSBREGENZ
SUMMARY:Treffpunkt Tanz! Für Tanzbegeisterte ab 50 (26S77000) 
LOCATION:Lustenau, Pfarrzentrum Rheindorf, Maria-Theresien-Straße 85, Maria-Theresien-Straße 85, 6890 Lustenau
END:VEVENT
BEGIN:VEVENT
DTSTAMP:20260421T105704
DTSTART;TZID=Europe/Berlin:20260303T143000
DTEND;TZID=Europe/Berlin:20260303T161000
UID:26S77000-20260303T143000@VHSBREGENZ
SUMMARY:Treffpunkt Tanz! Für Tanzbegeisterte ab 50 (26S77000) 
LOCATION:Lustenau, Pfarrzentrum Rheindorf, Maria-Theresien-Straße 85, Maria-Theresien-Straße 85, 6890 Lustenau
END:VEVENT
BEGIN:VEVENT
DTSTAMP:20260421T105704
DTSTART;TZID=Europe/Berlin:20260310T143000
DTEND;TZID=Europe/Berlin:20260310T161000
UID:26S77000-20260310T143000@VHSBREGENZ
SUMMARY:Treffpunkt Tanz! Für Tanzbegeisterte ab 50 (26S77000) 
LOCATION:Lustenau, Pfarrzentrum Rheindorf, Maria-Theresien-Straße 85, Maria-Theresien-Straße 85, 6890 Lustenau
END:VEVENT
BEGIN:VEVENT
DTSTAMP:20260421T105704
DTSTART;TZID=Europe/Berlin:20260317T143000
DTEND;TZID=Europe/Berlin:20260317T161000
UID:26S77000-20260317T143000@VHSBREGENZ
SUMMARY:Treffpunkt Tanz! Für Tanzbegeisterte ab 50 (26S77000) 
LOCATION:Lustenau, Pfarrzentrum Rheindorf, Maria-Theresien-Straße 85, Maria-Theresien-Straße 85, 6890 Lustenau
END:VEVENT
BEGIN:VEVENT
DTSTAMP:20260421T105704
DTSTART;TZID=Europe/Berlin:20260324T143000
DTEND;TZID=Europe/Berlin:20260324T161000
UID:26S77000-20260324T143000@VHSBREGENZ
SUMMARY:Treffpunkt Tanz! Für Tanzbegeisterte ab 50 (26S77000) 
LOCATION:Lustenau, Pfarrzentrum Rheindorf, Maria-Theresien-Straße 85, Maria-Theresien-Straße 85, 6890 Lustenau
END:VEVENT
BEGIN:VEVENT
DTSTAMP:20260421T105704
DTSTART;TZID=Europe/Berlin:20260331T143000
DTEND;TZID=Europe/Berlin:20260331T161000
UID:26S77000-20260331T143000@VHSBREGENZ
SUMMARY:Treffpunkt Tanz! Für Tanzbegeisterte ab 50 (26S77000) 
LOCATION:Lustenau, Pfarrzentrum Rheindorf, Maria-Theresien-Straße 85, Maria-Theresien-Straße 85, 6890 Lustenau
END:VEVENT
BEGIN:VEVENT
DTSTAMP:20260421T105704
DTSTART;TZID=Europe/Berlin:20260414T143000
DTEND;TZID=Europe/Berlin:20260414T161000
UID:26S77000-20260414T143000@VHSBREGENZ
DESCRIPTION:statt 07.04.
SUMMARY:Treffpunkt Tanz! Für Tanzbegeisterte ab 50 (26S77000) 
LOCATION:Lustenau, Pfarrzentrum Rheindorf, Maria-Theresien-Straße 85, Maria-Theresien-Straße 85, 6890 Lustenau
END:VEVENT
END:VCALENDAR