BEGIN:VCALENDAR
VERSION:2.0
PRODID:https://www.kufer.de/kuferweb / DE
METHOD:PUBLISH
CALSCALE:GREGORIAN
X-WR-TIMEZONE:Europe/Berlin
BEGIN:VTIMEZONE
TZID:Europe/Berlin
X-LIC-LOCATION:Europe/Berlin
BEGIN:DAYLIGHT
TZOFFSETFROM:+0100
TZOFFSETTO:+0200
TZNAME:CEST
DTSTART:19700329T020000
RRULE:FREQ=YEARLY;INTERVAL=1;BYDAY=-1SU;BYMONTH=3
END:DAYLIGHT
BEGIN:STANDARD
TZOFFSETFROM:+0200
TZOFFSETTO:+0100
TZNAME:CET
DTSTART:19701025T030000
RRULE:FREQ=YEARLY;INTERVAL=1;BYDAY=-1SU;BYMONTH=10
END:STANDARD
END:VTIMEZONE
BEGIN:VEVENT
DTSTAMP:20260424T181309
DTSTART;TZID=Europe/Berlin:20261113T133000
DTEND;TZID=Europe/Berlin:20261113T163000
UID:26W40004-20261113T133000@VHSBREGENZ
SUMMARY:Social Media Lehrgang - Modul 4: Videografie - Grundlagen der Videografie (im Social Media Bereich) (26W40004) 
LOCATION:Bregenz, Seminarpark Arlbergstraße 82, Raum A, Arlbergstraße 82, 6900 Bregenz
END:VEVENT
BEGIN:VEVENT
DTSTAMP:20260424T181309
DTSTART;TZID=Europe/Berlin:20261114T090000
DTEND;TZID=Europe/Berlin:20261114T120000
UID:26W40004-20261114T090000@VHSBREGENZ
SUMMARY:Social Media Lehrgang - Modul 4: Videografie - Grundlagen der Videografie (im Social Media Bereich) (26W40004) 
LOCATION:Bregenz, Seminarpark Arlbergstraße 82, Raum A, Arlbergstraße 82, 6900 Bregenz
END:VEVENT
END:VCALENDAR